BEGIN:VCALENDAR
VERSION:2.0
PRODID:-//Early Bird Sport - ECPv6.8.2.1//NONSGML v1.0//EN
CALSCALE:GREGORIAN
METHOD:PUBLISH
X-ORIGINAL-URL:https://earlybirdsport.com
X-WR-CALDESC:Events for Early Bird Sport
REFRESH-INTERVAL;VALUE=DURATION:PT1H
X-Robots-Tag:noindex
X-PUBLISHED-TTL:PT1H
BEGIN:VTIMEZONE
TZID:UTC
BEGIN:STANDARD
TZOFFSETFROM:+0000
TZOFFSETTO:+0000
TZNAME:UTC
DTSTART:20240101T000000
END:STANDARD
END:VTIMEZONE
BEGIN:VEVENT
DTSTART;TZID=UTC:20241117T100000
DTEND;TZID=UTC:20241117T130000
DTSTAMP:20260419T083050
CREATED:20241008T194111Z
LAST-MODIFIED:20241008T194111Z
UID:10000159-1731837600-1731848400@earlybirdsport.com
SUMMARY:Raiders vs Dolphins
DESCRIPTION:
URL:https://earlybirdsport.com/event/raiders-vs-dolphins/
LOCATION:Rí Rá Irish Pub\, 3950 S Las Vegas Blvd\, Las Vegas\, NV\, 89119\, United States
CATEGORIES:NFL
ATTACH;FMTTYPE=image/png:https://earlybirdsport.com/wp-content/uploads/2024/10/Raiders-vs-Dolphins.png
ORGANIZER;CN="Early Bird Sport":MAILTO:info@earlybirdsport.com
END:VEVENT
BEGIN:VEVENT
DTSTART;TZID=UTC:20241111T170000
DTEND;TZID=UTC:20241111T200000
DTSTAMP:20260419T083051
CREATED:20241008T193749Z
LAST-MODIFIED:20241021T235231Z
UID:10000158-1731344400-1731355200@earlybirdsport.com
SUMMARY:Dolphins vs Rams
DESCRIPTION:
URL:https://earlybirdsport.com/event/dolphins-vs-rams/
LOCATION:Link n Hops\, 3111 Glendale Blvd\, Los Angeles\, CA\, 90039\, United States
CATEGORIES:NFL
ATTACH;FMTTYPE=image/png:https://earlybirdsport.com/wp-content/uploads/2024/10/Dolphins-vs-Rams.png
ORGANIZER;CN="Early Bird Sport":MAILTO:info@earlybirdsport.com
END:VEVENT
BEGIN:VEVENT
DTSTART;TZID=UTC:20241103T100000
DTEND;TZID=UTC:20241103T130000
DTSTAMP:20260419T083051
CREATED:20241008T193338Z
LAST-MODIFIED:20241008T193338Z
UID:10000157-1730628000-1730638800@earlybirdsport.com
SUMMARY:Dolphins vs Bills
DESCRIPTION:
URL:https://earlybirdsport.com/event/dolphins-vs-bills/
LOCATION:The Snug\, 4108 W Magnolia Blvd\, Burbank\, CA\, 91505\, United States
CATEGORIES:NFL
ATTACH;FMTTYPE=image/png:https://earlybirdsport.com/wp-content/uploads/2024/10/Dolphins-vs-Bills.png
ORGANIZER;CN="Early Bird Sport":MAILTO:info@earlybirdsport.com
END:VEVENT
BEGIN:VEVENT
DTSTART;TZID=UTC:20241027T100000
DTEND;TZID=UTC:20241027T130000
DTSTAMP:20260419T083051
CREATED:20240924T231509Z
LAST-MODIFIED:20240924T231509Z
UID:10000117-1730023200-1730034000@earlybirdsport.com
SUMMARY:Cardinals vs Dolphins
DESCRIPTION:
URL:https://earlybirdsport.com/event/cardinals-vs-dolphins/
LOCATION:The Snug\, 4108 W Magnolia Blvd\, Burbank\, CA\, 91505\, United States
CATEGORIES:NFL
ATTACH;FMTTYPE=image/png:https://earlybirdsport.com/wp-content/uploads/2024/09/Cardinals-vs-Dolphins.png
ORGANIZER;CN="Early Bird Sport":MAILTO:info@earlybirdsport.com
END:VEVENT
BEGIN:VEVENT
DTSTART;TZID=UTC:20241020T100000
DTEND;TZID=UTC:20241020T130000
DTSTAMP:20260419T083051
CREATED:20240924T231245Z
LAST-MODIFIED:20240924T231245Z
UID:10000116-1729418400-1729429200@earlybirdsport.com
SUMMARY:Dolphins vs Colts
DESCRIPTION:
URL:https://earlybirdsport.com/event/dolphins-vs-colts/
LOCATION:The Snug\, 4108 W Magnolia Blvd\, Burbank\, CA\, 91505\, United States
CATEGORIES:NFL
ATTACH;FMTTYPE=image/png:https://earlybirdsport.com/wp-content/uploads/2024/09/Dolphins-vs-Colts.png
ORGANIZER;CN="Early Bird Sport":MAILTO:info@earlybirdsport.com
END:VEVENT
BEGIN:VEVENT
DTSTART;TZID=UTC:20241006T100000
DTEND;TZID=UTC:20241006T130000
DTSTAMP:20260419T083051
CREATED:20240924T230632Z
LAST-MODIFIED:20240924T230632Z
UID:10000115-1728208800-1728219600@earlybirdsport.com
SUMMARY:Dolphins vs Patriots
DESCRIPTION:
URL:https://earlybirdsport.com/event/dolphins-vs-patriots/
LOCATION:The Snug\, 4108 W Magnolia Blvd\, Burbank\, CA\, 91505\, United States
CATEGORIES:NFL
ATTACH;FMTTYPE=image/png:https://earlybirdsport.com/wp-content/uploads/2024/09/Dolphins-vs-Patriots.png
ORGANIZER;CN="Early Bird Sport":MAILTO:info@earlybirdsport.com
END:VEVENT
BEGIN:VEVENT
DTSTART;TZID=UTC:20240930T163000
DTEND;TZID=UTC:20240930T193000
DTSTAMP:20260419T083051
CREATED:20240924T230148Z
LAST-MODIFIED:20240924T230148Z
UID:10000114-1727713800-1727724600@earlybirdsport.com
SUMMARY:Titans vs Dolphins
DESCRIPTION:
URL:https://earlybirdsport.com/event/titans-vs-dolphins/
LOCATION:The Snug\, 4108 W Magnolia Blvd\, Burbank\, CA\, 91505\, United States
CATEGORIES:NFL
ATTACH;FMTTYPE=image/png:https://earlybirdsport.com/wp-content/uploads/2024/09/Titans-vs-Dolphins-1.png
ORGANIZER;CN="Early Bird Sport":MAILTO:info@earlybirdsport.com
END:VEVENT
END:VCALENDAR