BEGIN:VCALENDAR
VERSION:2.0
PRODID:-//Early Bird Sport - ECPv6.8.2.1//NONSGML v1.0//EN
CALSCALE:GREGORIAN
METHOD:PUBLISH
X-WR-CALNAME:Early Bird Sport
X-ORIGINAL-URL:https://earlybirdsport.com
X-WR-CALDESC:Events for Early Bird Sport
REFRESH-INTERVAL;VALUE=DURATION:PT1H
X-Robots-Tag:noindex
X-PUBLISHED-TTL:PT1H
BEGIN:VTIMEZONE
TZID:UTC
BEGIN:STANDARD
TZOFFSETFROM:+0000
TZOFFSETTO:+0000
TZNAME:UTC
DTSTART:20240101T000000
END:STANDARD
END:VTIMEZONE
BEGIN:VEVENT
DTSTART;TZID=UTC:20241111T170000
DTEND;TZID=UTC:20241111T200000
DTSTAMP:20260419T130822
CREATED:20241008T193749Z
LAST-MODIFIED:20241021T235231Z
UID:10000158-1731344400-1731355200@earlybirdsport.com
SUMMARY:Dolphins vs Rams
DESCRIPTION:
URL:https://earlybirdsport.com/event/dolphins-vs-rams/
LOCATION:Link n Hops\, 3111 Glendale Blvd\, Los Angeles\, CA\, 90039\, United States
CATEGORIES:NFL
ATTACH;FMTTYPE=image/png:https://earlybirdsport.com/wp-content/uploads/2024/10/Dolphins-vs-Rams.png
ORGANIZER;CN="Early Bird Sport":MAILTO:info@earlybirdsport.com
END:VEVENT
BEGIN:VEVENT
DTSTART;TZID=UTC:20241102T170000
DTEND;TZID=UTC:20241102T200000
DTSTAMP:20260419T130822
CREATED:20241022T174906Z
LAST-MODIFIED:20241022T174906Z
UID:10000172-1730566800-1730577600@earlybirdsport.com
SUMMARY:Yankees vs Dodgers
DESCRIPTION:
URL:https://earlybirdsport.com/event/yankees-vs-dodgers-4/
LOCATION:Link n Hops\, 3111 Glendale Blvd\, Los Angeles\, CA\, 90039\, United States
CATEGORIES:MLB
ATTACH;FMTTYPE=image/png:https://earlybirdsport.com/wp-content/uploads/2024/10/Yankees-vs-Dodgers.png
ORGANIZER;CN="Early Bird Sport":MAILTO:info@earlybirdsport.com
END:VEVENT
BEGIN:VEVENT
DTSTART;TZID=UTC:20241101T170000
DTEND;TZID=UTC:20241101T200000
DTSTAMP:20260419T130822
CREATED:20241022T174756Z
LAST-MODIFIED:20241022T174756Z
UID:10000171-1730480400-1730491200@earlybirdsport.com
SUMMARY:Yankees vs Dodgers
DESCRIPTION:
URL:https://earlybirdsport.com/event/yankees-vs-dodgers-3/
LOCATION:Link n Hops\, 3111 Glendale Blvd\, Los Angeles\, CA\, 90039\, United States
CATEGORIES:MLB
ATTACH;FMTTYPE=image/png:https://earlybirdsport.com/wp-content/uploads/2024/10/Yankees-vs-Dodgers.png
ORGANIZER;CN="Early Bird Sport":MAILTO:info@earlybirdsport.com
END:VEVENT
BEGIN:VEVENT
DTSTART;TZID=UTC:20241030T170000
DTEND;TZID=UTC:20241030T200000
DTSTAMP:20260419T130822
CREATED:20241022T174519Z
LAST-MODIFIED:20241022T174519Z
UID:10000170-1730307600-1730318400@earlybirdsport.com
SUMMARY:Dodgers vs Yankees
DESCRIPTION:
URL:https://earlybirdsport.com/event/dodgers-vs-yankees-3/
LOCATION:Link n Hops\, 3111 Glendale Blvd\, Los Angeles\, CA\, 90039\, United States
CATEGORIES:MLB
ATTACH;FMTTYPE=image/png:https://earlybirdsport.com/wp-content/uploads/2024/10/Dodgers-vs-Yankees.png
ORGANIZER;CN="Early Bird Sport":MAILTO:info@earlybirdsport.com
END:VEVENT
BEGIN:VEVENT
DTSTART;TZID=UTC:20241029T170000
DTEND;TZID=UTC:20241029T200000
DTSTAMP:20260419T130822
CREATED:20241022T174421Z
LAST-MODIFIED:20241022T174421Z
UID:10000169-1730221200-1730232000@earlybirdsport.com
SUMMARY:Dodgers vs Yankees
DESCRIPTION:
URL:https://earlybirdsport.com/event/dodgers-vs-yankees-2/
LOCATION:Link n Hops\, 3111 Glendale Blvd\, Los Angeles\, CA\, 90039\, United States
CATEGORIES:MLB
ATTACH;FMTTYPE=image/png:https://earlybirdsport.com/wp-content/uploads/2024/10/Dodgers-vs-Yankees.png
ORGANIZER;CN="Early Bird Sport":MAILTO:info@earlybirdsport.com
END:VEVENT
BEGIN:VEVENT
DTSTART;TZID=UTC:20241028T170000
DTEND;TZID=UTC:20241028T200000
DTSTAMP:20260419T130822
CREATED:20241022T174111Z
LAST-MODIFIED:20241022T174111Z
UID:10000168-1730134800-1730145600@earlybirdsport.com
SUMMARY:Dodgers vs Yankees
DESCRIPTION:
URL:https://earlybirdsport.com/event/dodgers-vs-yankees/
LOCATION:Link n Hops\, 3111 Glendale Blvd\, Los Angeles\, CA\, 90039\, United States
CATEGORIES:MLB
ATTACH;FMTTYPE=image/png:https://earlybirdsport.com/wp-content/uploads/2024/10/Dodgers-vs-Yankees.png
ORGANIZER;CN="Early Bird Sport":MAILTO:info@earlybirdsport.com
END:VEVENT
BEGIN:VEVENT
DTSTART;TZID=UTC:20241026T170000
DTEND;TZID=UTC:20241026T200000
DTSTAMP:20260419T130822
CREATED:20241022T173855Z
LAST-MODIFIED:20241022T173855Z
UID:10000167-1729962000-1729972800@earlybirdsport.com
SUMMARY:Yankees vs Dodgers
DESCRIPTION:
URL:https://earlybirdsport.com/event/yankees-vs-dodgers-2/
LOCATION:Link n Hops\, 3111 Glendale Blvd\, Los Angeles\, CA\, 90039\, United States
CATEGORIES:MLB
ATTACH;FMTTYPE=image/png:https://earlybirdsport.com/wp-content/uploads/2024/10/Yankees-vs-Dodgers.png
ORGANIZER;CN="Early Bird Sport":MAILTO:info@earlybirdsport.com
END:VEVENT
BEGIN:VEVENT
DTSTART;TZID=UTC:20241025T170000
DTEND;TZID=UTC:20241025T200000
DTSTAMP:20260419T130822
CREATED:20241021T220735Z
LAST-MODIFIED:20241022T173841Z
UID:10000166-1729875600-1729886400@earlybirdsport.com
SUMMARY:Yankees vs Dodgers
DESCRIPTION:
URL:https://earlybirdsport.com/event/yankees-vs-dodgers/
LOCATION:Link n Hops\, 3111 Glendale Blvd\, Los Angeles\, CA\, 90039\, United States
CATEGORIES:MLB
ATTACH;FMTTYPE=image/png:https://earlybirdsport.com/wp-content/uploads/2024/10/Yankees-vs-Dodgers.png
ORGANIZER;CN="Early Bird Sport":MAILTO:info@earlybirdsport.com
END:VEVENT
BEGIN:VEVENT
DTSTART;TZID=UTC:20241024T170000
DTEND;TZID=UTC:20241024T200000
DTSTAMP:20260419T130822
CREATED:20241008T185625Z
LAST-MODIFIED:20241008T185625Z
UID:10000154-1729789200-1729800000@earlybirdsport.com
SUMMARY:Vikings vs Rams
DESCRIPTION:
URL:https://earlybirdsport.com/event/vikings-vs-rams/
LOCATION:Pineapple Hill Saloon & Grill\, 4454 Van Nuys Blvd N\, Sherman Oaks\, CA\, 91403\, United States
CATEGORIES:NFL
ATTACH;FMTTYPE=image/png:https://earlybirdsport.com/wp-content/uploads/2024/10/Vikings-vs-Rams.png
ORGANIZER;CN="Early Bird Sport":MAILTO:info@earlybirdsport.com
END:VEVENT
BEGIN:VEVENT
DTSTART;TZID=UTC:20241020T170000
DTEND;TZID=UTC:20241020T200000
DTSTAMP:20260419T130822
CREATED:20241017T185344Z
LAST-MODIFIED:20241017T185344Z
UID:10000162-1729443600-1729454400@earlybirdsport.com
SUMMARY:Mets vs Dodgers
DESCRIPTION:
URL:https://earlybirdsport.com/event/mets-vs-dodgers/
LOCATION:Link n Hops\, 3111 Glendale Blvd\, Los Angeles\, CA\, 90039\, United States
CATEGORIES:MLB
ATTACH;FMTTYPE=image/png:https://earlybirdsport.com/wp-content/uploads/2024/10/Mets-vs-Dodgers.png
ORGANIZER;CN="Early Bird Sport":MAILTO:info@earlybirdsport.com
END:VEVENT
BEGIN:VEVENT
DTSTART;TZID=UTC:20241020T130000
DTEND;TZID=UTC:20241020T160000
DTSTAMP:20260419T130822
CREATED:20240924T223256Z
LAST-MODIFIED:20240924T223256Z
UID:10000111-1729429200-1729440000@earlybirdsport.com
SUMMARY:Raiders vs Rams
DESCRIPTION:
URL:https://earlybirdsport.com/event/raiders-vs-rams/
LOCATION:Rí Rá Irish Pub\, 3950 S Las Vegas Blvd\, Las Vegas\, NV\, 89119\, United States
CATEGORIES:NFL
ATTACH;FMTTYPE=image/png:https://earlybirdsport.com/wp-content/uploads/2024/09/Raiders-vs-Rams.png
ORGANIZER;CN="Early Bird Sport":MAILTO:info@earlybirdsport.com
END:VEVENT
BEGIN:VEVENT
DTSTART;TZID=UTC:20241018T140000
DTEND;TZID=UTC:20241018T170000
DTSTAMP:20260419T130822
CREATED:20241017T185100Z
LAST-MODIFIED:20241017T185100Z
UID:10000161-1729260000-1729270800@earlybirdsport.com
SUMMARY:Dodgers vs Mets
DESCRIPTION:
URL:https://earlybirdsport.com/event/dodgers-vs-mets/
LOCATION:Link n Hops\, 3111 Glendale Blvd\, Los Angeles\, CA\, 90039\, United States
CATEGORIES:MLB
ATTACH;FMTTYPE=image/png:https://earlybirdsport.com/wp-content/uploads/2024/10/Dodgers-vs-Mets.png
ORGANIZER;CN="Early Bird Sport":MAILTO:info@earlybirdsport.com
END:VEVENT
BEGIN:VEVENT
DTSTART;TZID=UTC:20241011T170000
DTEND;TZID=UTC:20241011T200000
DTSTAMP:20260419T130822
CREATED:20241008T192504Z
LAST-MODIFIED:20241008T192504Z
UID:10000155-1728666000-1728676800@earlybirdsport.com
SUMMARY:Padres vs Dodgers
DESCRIPTION:
URL:https://earlybirdsport.com/event/padres-vs-dodgers-3/
LOCATION:Link n Hops\, 3111 Glendale Blvd\, Los Angeles\, CA\, 90039\, United States
CATEGORIES:MLB
ATTACH;FMTTYPE=image/png:https://earlybirdsport.com/wp-content/uploads/2024/10/Padres-vs-Dodgers.png
ORGANIZER;CN="Early Bird Sport":MAILTO:info@earlybirdsport.com
END:VEVENT
BEGIN:VEVENT
DTSTART;TZID=UTC:20241009T180000
DTEND;TZID=UTC:20241009T210000
DTSTAMP:20260419T130822
CREATED:20241004T233902Z
LAST-MODIFIED:20241004T233902Z
UID:10000151-1728496800-1728507600@earlybirdsport.com
SUMMARY:Dodgers vs Padres
DESCRIPTION:
URL:https://earlybirdsport.com/event/dodgers-vs-padres-2/
LOCATION:Link n Hops\, 3111 Glendale Blvd\, Los Angeles\, CA\, 90039\, United States
CATEGORIES:MLB
ATTACH;FMTTYPE=image/png:https://earlybirdsport.com/wp-content/uploads/2024/10/Dodgers-vs-Padres.png
ORGANIZER;CN="Early Bird Sport":MAILTO:info@earlybirdsport.com
END:VEVENT
BEGIN:VEVENT
DTSTART;TZID=UTC:20241008T180000
DTEND;TZID=UTC:20241008T210000
DTSTAMP:20260419T130822
CREATED:20241004T233544Z
LAST-MODIFIED:20241004T233544Z
UID:10000150-1728410400-1728421200@earlybirdsport.com
SUMMARY:Dodgers vs Padres
DESCRIPTION:
URL:https://earlybirdsport.com/event/dodgers-vs-padres/
LOCATION:Link n Hops\, 3111 Glendale Blvd\, Los Angeles\, CA\, 90039\, United States
CATEGORIES:MLB
ATTACH;FMTTYPE=image/png:https://earlybirdsport.com/wp-content/uploads/2024/10/Dodgers-vs-Padres.png
ORGANIZER;CN="Early Bird Sport":MAILTO:info@earlybirdsport.com
END:VEVENT
BEGIN:VEVENT
DTSTART;TZID=UTC:20241006T170000
DTEND;TZID=UTC:20241006T200000
DTSTAMP:20260419T130822
CREATED:20241004T231452Z
LAST-MODIFIED:20241004T231452Z
UID:10000149-1728234000-1728244800@earlybirdsport.com
SUMMARY:Padres vs Dodgers
DESCRIPTION:
URL:https://earlybirdsport.com/event/padres-vs-dodgers-2/
LOCATION:Link n Hops\, 3111 Glendale Blvd\, Los Angeles\, CA\, 90039\, United States
CATEGORIES:MLB
ATTACH;FMTTYPE=image/png:https://earlybirdsport.com/wp-content/uploads/2024/10/Padres-vs-Dodgers.png
ORGANIZER;CN="Early Bird Sport":MAILTO:info@earlybirdsport.com
END:VEVENT
BEGIN:VEVENT
DTSTART;TZID=UTC:20241006T133000
DTEND;TZID=UTC:20241006T163000
DTSTAMP:20260419T130822
CREATED:20240926T193415Z
LAST-MODIFIED:20240926T193415Z
UID:10000124-1728221400-1728232200@earlybirdsport.com
SUMMARY:Packers vs Rams
DESCRIPTION:
URL:https://earlybirdsport.com/event/packers-vs-rams/
LOCATION:Pickwick Pub\, 21010 Ventura Blvd\, Woodland Hills\, CA\, 91364\, United States
CATEGORIES:NFL
ATTACH;FMTTYPE=image/png:https://earlybirdsport.com/wp-content/uploads/2024/09/Packers-vs-Rams.png
ORGANIZER;CN="Early Bird Sport":MAILTO:info@earlybirdsport.com
END:VEVENT
BEGIN:VEVENT
DTSTART;TZID=UTC:20241005T173000
DTEND;TZID=UTC:20241005T203000
DTSTAMP:20260419T130822
CREATED:20241004T230728Z
LAST-MODIFIED:20241004T230728Z
UID:10000147-1728149400-1728160200@earlybirdsport.com
SUMMARY:Padres vs Dodgers
DESCRIPTION:
URL:https://earlybirdsport.com/event/padres-vs-dodgers/
LOCATION:Link n Hops\, 3111 Glendale Blvd\, Los Angeles\, CA\, 90039\, United States
CATEGORIES:MLB
ATTACH;FMTTYPE=image/png:https://earlybirdsport.com/wp-content/uploads/2024/10/Padres-vs-Dodgers.png
ORGANIZER;CN="Early Bird Sport":MAILTO:info@earlybirdsport.com
END:VEVENT
BEGIN:VEVENT
DTSTART;TZID=UTC:20240929T100000
DTEND;TZID=UTC:20240929T130000
DTSTAMP:20260419T130822
CREATED:20240926T203753Z
LAST-MODIFIED:20240926T203753Z
UID:10000132-1727604000-1727614800@earlybirdsport.com
SUMMARY:Rams vs Bears
DESCRIPTION:
URL:https://earlybirdsport.com/event/rams-vs-bears/
LOCATION:Tiny’s Hi-Dive\, 12012 W Pico Blvd\, Los Angeles\, CA\, 90064\, United States
CATEGORIES:NFL
ATTACH;FMTTYPE=image/png:https://earlybirdsport.com/wp-content/uploads/2024/09/Rams-vs-Bears.png
ORGANIZER;CN="Early Bird Sport":MAILTO:info@earlybirdsport.com
END:VEVENT
END:VCALENDAR