BEGIN:VCALENDAR
VERSION:2.0
PRODID:-//Early Bird Sport - ECPv6.8.2.1//NONSGML v1.0//EN
CALSCALE:GREGORIAN
METHOD:PUBLISH
X-ORIGINAL-URL:https://earlybirdsport.com
X-WR-CALDESC:Events for Early Bird Sport
REFRESH-INTERVAL;VALUE=DURATION:PT1H
X-Robots-Tag:noindex
X-PUBLISHED-TTL:PT1H
BEGIN:VTIMEZONE
TZID:UTC
BEGIN:STANDARD
TZOFFSETFROM:+0000
TZOFFSETTO:+0000
TZNAME:UTC
DTSTART:20240101T000000
END:STANDARD
END:VTIMEZONE
BEGIN:VEVENT
DTSTART;TZID=UTC:20241027T100000
DTEND;TZID=UTC:20241027T130000
DTSTAMP:20260419T162210
CREATED:20240926T215749Z
LAST-MODIFIED:20240926T215749Z
UID:10000138-1730023200-1730034000@earlybirdsport.com
SUMMARY:Eagles vs Bengals
DESCRIPTION:
URL:https://earlybirdsport.com/event/eagles-vs-bengals/
LOCATION:The Garage\, 3387 Motor Ave\, Los Angeles\, CA\, 90034\, United States
CATEGORIES:NFL
ATTACH;FMTTYPE=image/png:https://earlybirdsport.com/wp-content/uploads/2024/09/Eagles-vs-Bengals.png
ORGANIZER;CN="Early Bird Sport":MAILTO:info@earlybirdsport.com
END:VEVENT
BEGIN:VEVENT
DTSTART;TZID=UTC:20241020T100000
DTEND;TZID=UTC:20241020T130000
DTSTAMP:20260419T162210
CREATED:20240926T215353Z
LAST-MODIFIED:20240926T215353Z
UID:10000137-1729418400-1729429200@earlybirdsport.com
SUMMARY:Eagles vs Giants
DESCRIPTION:
URL:https://earlybirdsport.com/event/eagles-vs-giants/
LOCATION:The Garage\, 3387 Motor Ave\, Los Angeles\, CA\, 90034\, United States
CATEGORIES:NFL
ATTACH;FMTTYPE=image/png:https://earlybirdsport.com/wp-content/uploads/2024/09/Eagles-vs-Giants.png
ORGANIZER;CN="Early Bird Sport":MAILTO:info@earlybirdsport.com
END:VEVENT
BEGIN:VEVENT
DTSTART;TZID=UTC:20241013T100000
DTEND;TZID=UTC:20241013T130000
DTSTAMP:20260419T162210
CREATED:20240926T200642Z
LAST-MODIFIED:20240926T200642Z
UID:10000129-1728813600-1728824400@earlybirdsport.com
SUMMARY:Browns vs Eagles
DESCRIPTION:
URL:https://earlybirdsport.com/event/browns-vs-eagles/
LOCATION:Saint Felix\, 1602 N Cahuenga Blvd\, Los Angeles\, CA\, 90028\, United States
CATEGORIES:NFL
ATTACH;FMTTYPE=image/png:https://earlybirdsport.com/wp-content/uploads/2024/09/Browns-vs-Eagles.png
ORGANIZER;CN="Early Bird Sport":MAILTO:info@earlybirdsport.com
END:VEVENT
BEGIN:VEVENT
DTSTART;TZID=UTC:20241012T113000
DTEND;TZID=UTC:20241012T153000
DTSTAMP:20260419T162210
CREATED:20240927T233741Z
LAST-MODIFIED:20241008T185917Z
UID:10000145-1728732600-1728747000@earlybirdsport.com
SUMMARY:Penn State vs USC
DESCRIPTION:
URL:https://earlybirdsport.com/event/penn-state-vs-usc/
LOCATION:The Garage\, 3387 Motor Ave\, Los Angeles\, CA\, 90034\, United States
CATEGORIES:NCAA Football
ATTACH;FMTTYPE=image/png:https://earlybirdsport.com/wp-content/uploads/2024/09/Penn-State-vs-USC.png
ORGANIZER;CN="Early Bird Sport":MAILTO:info@earlybirdsport.com
END:VEVENT
BEGIN:VEVENT
DTSTART;TZID=UTC:20241005T090000
DTEND;TZID=UTC:20241005T120000
DTSTAMP:20260419T162211
CREATED:20240926T220652Z
LAST-MODIFIED:20240926T220652Z
UID:10000139-1728118800-1728129600@earlybirdsport.com
SUMMARY:UCLA vs Penn State
DESCRIPTION:
URL:https://earlybirdsport.com/event/ucla-vs-penn-state/
LOCATION:The Garage\, 3387 Motor Ave\, Los Angeles\, CA\, 90034\, United States
CATEGORIES:NCAA Football
ATTACH;FMTTYPE=image/png:https://earlybirdsport.com/wp-content/uploads/2024/09/UCLA-vs-Penn-State.png
ORGANIZER;CN="Early Bird Sport":MAILTO:info@earlybirdsport.com
END:VEVENT
BEGIN:VEVENT
DTSTART;TZID=UTC:20240929T100000
DTEND;TZID=UTC:20240929T130000
DTSTAMP:20260419T162211
CREATED:20240926T214957Z
LAST-MODIFIED:20240926T214957Z
UID:10000136-1727604000-1727614800@earlybirdsport.com
SUMMARY:Eagles vs Buccaneers
DESCRIPTION:
URL:https://earlybirdsport.com/event/eagles-vs-buccaneers/
LOCATION:The Garage\, 3387 Motor Ave\, Los Angeles\, CA\, 90034\, United States
CATEGORIES:NFL
ATTACH;FMTTYPE=image/png:https://earlybirdsport.com/wp-content/uploads/2024/09/Eagles-vs-Buccaneers.png
ORGANIZER;CN="Early Bird Sport":MAILTO:info@earlybirdsport.com
END:VEVENT
END:VCALENDAR