BEGIN:VCALENDAR
VERSION:2.0
PRODID:-//Early Bird Sport - ECPv6.8.2.1//NONSGML v1.0//EN
CALSCALE:GREGORIAN
METHOD:PUBLISH
X-ORIGINAL-URL:https://earlybirdsport.com
X-WR-CALDESC:Events for Early Bird Sport
REFRESH-INTERVAL;VALUE=DURATION:PT1H
X-Robots-Tag:noindex
X-PUBLISHED-TTL:PT1H
BEGIN:VTIMEZONE
TZID:UTC
BEGIN:STANDARD
TZOFFSETFROM:+0000
TZOFFSETTO:+0000
TZNAME:UTC
DTSTART:20240101T000000
END:STANDARD
END:VTIMEZONE
BEGIN:VEVENT
DTSTART;TZID=UTC:20241020T100000
DTEND;TZID=UTC:20241020T130000
DTSTAMP:20260423T054050
CREATED:20240927T231505Z
LAST-MODIFIED:20241008T183955Z
UID:10000142-1729418400-1729429200@earlybirdsport.com
SUMMARY:Lions vs Vikings
DESCRIPTION:
URL:https://earlybirdsport.com/event/lions-vs-vikings/
LOCATION:Tavern On Main\, 123 Main St.\, El Segundo\, 90245\, United States
CATEGORIES:NFL
ATTACH;FMTTYPE=image/png:https://earlybirdsport.com/wp-content/uploads/2024/09/Lions-vs-Vikings.png
ORGANIZER;CN="Early Bird Sport":MAILTO:info@earlybirdsport.com
END:VEVENT
BEGIN:VEVENT
DTSTART;TZID=UTC:20241013T133000
DTEND;TZID=UTC:20241013T163000
DTSTAMP:20260423T054050
CREATED:20240927T231042Z
LAST-MODIFIED:20241008T184401Z
UID:10000141-1728826200-1728837000@earlybirdsport.com
SUMMARY:Lions vs Cowboys
DESCRIPTION:
URL:https://earlybirdsport.com/event/lions-vs-cowboys/
LOCATION:Tavern On Main\, 123 Main St.\, El Segundo\, 90245\, United States
CATEGORIES:NFL
ATTACH;FMTTYPE=image/png:https://earlybirdsport.com/wp-content/uploads/2024/09/Lions-vs-Cowboys.png
ORGANIZER;CN="Early Bird Sport":MAILTO:info@earlybirdsport.com
END:VEVENT
BEGIN:VEVENT
DTSTART;TZID=UTC:20241012T113000
DTEND;TZID=UTC:20241012T153000
DTSTAMP:20260423T054050
CREATED:20240927T233741Z
LAST-MODIFIED:20241008T185917Z
UID:10000145-1728732600-1728747000@earlybirdsport.com
SUMMARY:Penn State vs USC
DESCRIPTION:
URL:https://earlybirdsport.com/event/penn-state-vs-usc/
LOCATION:The Garage\, 3387 Motor Ave\, Los Angeles\, CA\, 90034\, United States
CATEGORIES:NCAA Football
ATTACH;FMTTYPE=image/png:https://earlybirdsport.com/wp-content/uploads/2024/09/Penn-State-vs-USC.png
ORGANIZER;CN="Early Bird Sport":MAILTO:info@earlybirdsport.com
END:VEVENT
END:VCALENDAR