BEGIN:VCALENDAR
VERSION:2.0
PRODID:-//Early Bird Sport - ECPv6.8.2.1//NONSGML v1.0//EN
CALSCALE:GREGORIAN
METHOD:PUBLISH
X-ORIGINAL-URL:https://earlybirdsport.com
X-WR-CALDESC:Events for Early Bird Sport
REFRESH-INTERVAL;VALUE=DURATION:PT1H
X-Robots-Tag:noindex
X-PUBLISHED-TTL:PT1H
BEGIN:VTIMEZONE
TZID:UTC
BEGIN:STANDARD
TZOFFSETFROM:+0000
TZOFFSETTO:+0000
TZNAME:UTC
DTSTART:20240101T000000
END:STANDARD
END:VTIMEZONE
BEGIN:VEVENT
DTSTART;TZID=UTC:20241104T120000
DTEND;TZID=UTC:20241104T140000
DTSTAMP:20260423T035150
CREATED:20240918T172353Z
LAST-MODIFIED:20240918T172353Z
UID:10000102-1730721600-1730728800@earlybirdsport.com
SUMMARY:Fulham vs Brentford
DESCRIPTION:
URL:https://earlybirdsport.com/event/fulham-vs-brentford/
LOCATION:Irish Times\, 3267 Motor Ave\, Los Angeles\, CA\, 90034\, United States
CATEGORIES:Premier League
ATTACH;FMTTYPE=image/png:https://earlybirdsport.com/wp-content/uploads/2024/09/Fulham-vs-Brentford.png
ORGANIZER;CN="Early Bird Sport":MAILTO:info@earlybirdsport.com
END:VEVENT
BEGIN:VEVENT
DTSTART;TZID=UTC:20241102T103000
DTEND;TZID=UTC:20241102T123000
DTSTAMP:20260423T035150
CREATED:20240918T171247Z
LAST-MODIFIED:20240918T171247Z
UID:10000099-1730543400-1730550600@earlybirdsport.com
SUMMARY:Wolves vs Crystal Palace
DESCRIPTION:
URL:https://earlybirdsport.com/event/wolves-vs-crystal-palace/
LOCATION:Irish Times\, 3267 Motor Ave\, Los Angeles\, CA\, 90034\, United States
CATEGORIES:Premier League
ATTACH;FMTTYPE=image/png:https://earlybirdsport.com/wp-content/uploads/2024/09/Wolves-vs-Crystal-Palace.png
ORGANIZER;CN="Early Bird Sport":MAILTO:info@earlybirdsport.com
END:VEVENT
BEGIN:VEVENT
DTSTART;TZID=UTC:20241027T093000
DTEND;TZID=UTC:20241027T113000
DTSTAMP:20260423T035150
CREATED:20240917T221432Z
LAST-MODIFIED:20240917T221432Z
UID:10000092-1730021400-1730028600@earlybirdsport.com
SUMMARY:Arsenal vs Liverpool
DESCRIPTION:
URL:https://earlybirdsport.com/event/arsenal-vs-liverpool/
LOCATION:Irish Times\, 3267 Motor Ave\, Los Angeles\, CA\, 90034\, United States
CATEGORIES:Premier League
ATTACH;FMTTYPE=image/png:https://earlybirdsport.com/wp-content/uploads/2024/09/Arsenal-vs-Liverpool.png
ORGANIZER;CN="Early Bird Sport":MAILTO:info@earlybirdsport.com
END:VEVENT
BEGIN:VEVENT
DTSTART;TZID=UTC:20241026T093000
DTEND;TZID=UTC:20241026T113000
DTSTAMP:20260423T035150
CREATED:20240917T220122Z
LAST-MODIFIED:20241021T235206Z
UID:10000088-1729935000-1729942200@earlybirdsport.com
SUMMARY:Everton vs Fulham
DESCRIPTION:
URL:https://earlybirdsport.com/event/everton-vs-fulham/
LOCATION:Irish Times\, 3267 Motor Ave\, Los Angeles\, CA\, 90034\, United States
CATEGORIES:Premier League
ATTACH;FMTTYPE=image/png:https://earlybirdsport.com/wp-content/uploads/2024/09/Everton-vs-Fulham.png
ORGANIZER;CN="Early Bird Sport":MAILTO:info@earlybirdsport.com
END:VEVENT
BEGIN:VEVENT
DTSTART;TZID=UTC:20241025T120000
DTEND;TZID=UTC:20241025T140000
DTSTAMP:20260423T035150
CREATED:20240917T212912Z
LAST-MODIFIED:20240917T212912Z
UID:10000083-1729857600-1729864800@earlybirdsport.com
SUMMARY:Leicester City vs Nottingham Forest
DESCRIPTION:
URL:https://earlybirdsport.com/event/leicester-city-vs-nottingham-forest/
LOCATION:Irish Times\, 3267 Motor Ave\, Los Angeles\, CA\, 90034\, United States
CATEGORIES:Premier League
ATTACH;FMTTYPE=image/png:https://earlybirdsport.com/wp-content/uploads/2024/09/Leicester-City-vs-Nottingham-Forest.png
ORGANIZER;CN="Early Bird Sport":MAILTO:info@earlybirdsport.com
END:VEVENT
BEGIN:VEVENT
DTSTART;TZID=UTC:20241021T120000
DTEND;TZID=UTC:20241021T140000
DTSTAMP:20260423T035150
CREATED:20240917T212455Z
LAST-MODIFIED:20240917T212455Z
UID:10000082-1729512000-1729519200@earlybirdsport.com
SUMMARY:Nottingham Forest vs Crystal Palace
DESCRIPTION:
URL:https://earlybirdsport.com/event/nottingham-forest-vs-crystal-palace/
LOCATION:Irish Times\, 3267 Motor Ave\, Los Angeles\, CA\, 90034\, United States
CATEGORIES:Premier League
ATTACH;FMTTYPE=image/png:https://earlybirdsport.com/wp-content/uploads/2024/09/Nottingham-Forest-vs-Crystal-Palace.png
ORGANIZER;CN="Early Bird Sport":MAILTO:info@earlybirdsport.com
END:VEVENT
BEGIN:VEVENT
DTSTART;TZID=UTC:20241020T083000
DTEND;TZID=UTC:20241020T103000
DTSTAMP:20260423T035150
CREATED:20240917T212143Z
LAST-MODIFIED:20240917T212143Z
UID:10000081-1729413000-1729420200@earlybirdsport.com
SUMMARY:Liverpool vs Chelsea
DESCRIPTION:
URL:https://earlybirdsport.com/event/liverpool-vs-chelsea/
LOCATION:Irish Times\, 3267 Motor Ave\, Los Angeles\, CA\, 90034\, United States
CATEGORIES:Premier League
ATTACH;FMTTYPE=image/png:https://earlybirdsport.com/wp-content/uploads/2024/09/Liverpool-vs-Chelsea.png
ORGANIZER;CN="Early Bird Sport":MAILTO:info@earlybirdsport.com
END:VEVENT
BEGIN:VEVENT
DTSTART;TZID=UTC:20241019T093000
DTEND;TZID=UTC:20241019T113000
DTSTAMP:20260423T035150
CREATED:20240917T211517Z
LAST-MODIFIED:20240917T211517Z
UID:10000079-1729330200-1729337400@earlybirdsport.com
SUMMARY:Bournemouth vs Arsenal
DESCRIPTION:
URL:https://earlybirdsport.com/event/bournemouth-vs-arsenal/
LOCATION:Irish Times\, 3267 Motor Ave\, Los Angeles\, CA\, 90034\, United States
CATEGORIES:Premier League
ATTACH;FMTTYPE=image/png:https://earlybirdsport.com/wp-content/uploads/2024/09/Bournemouth-vs-Arsenal.png
ORGANIZER;CN="Early Bird Sport":MAILTO:info@earlybirdsport.com
END:VEVENT
BEGIN:VEVENT
DTSTART;TZID=UTC:20241006T083000
DTEND;TZID=UTC:20241006T103000
DTSTAMP:20260423T035150
CREATED:20240917T205105Z
LAST-MODIFIED:20240917T205105Z
UID:10000072-1728203400-1728210600@earlybirdsport.com
SUMMARY:Brighton vs Tottenham
DESCRIPTION:
URL:https://earlybirdsport.com/event/brighton-vs-tottenham/
LOCATION:Irish Times\, 3267 Motor Ave\, Los Angeles\, CA\, 90034\, United States
CATEGORIES:Premier League
ATTACH;FMTTYPE=image/png:https://earlybirdsport.com/wp-content/uploads/2024/09/Brighton-vs-Tottenham.png
ORGANIZER;CN="Early Bird Sport":MAILTO:info@earlybirdsport.com
END:VEVENT
BEGIN:VEVENT
DTSTART;TZID=UTC:20241005T093000
DTEND;TZID=UTC:20241005T113000
DTSTAMP:20260423T035150
CREATED:20240917T204147Z
LAST-MODIFIED:20240917T213229Z
UID:10000069-1728120600-1728127800@earlybirdsport.com
SUMMARY:Everton vs Newcastle
DESCRIPTION:
URL:https://earlybirdsport.com/event/everton-vs-newcastle/
LOCATION:Irish Times\, 3267 Motor Ave\, Los Angeles\, CA\, 90034\, United States
CATEGORIES:Premier League
ATTACH;FMTTYPE=image/png:https://earlybirdsport.com/wp-content/uploads/2024/09/Everton-vs-Newcastle.png
ORGANIZER;CN="Early Bird Sport":MAILTO:info@earlybirdsport.com
END:VEVENT
BEGIN:VEVENT
DTSTART;TZID=UTC:20240930T120000
DTEND;TZID=UTC:20240930T140000
DTSTAMP:20260423T035151
CREATED:20240917T201705Z
LAST-MODIFIED:20240917T213316Z
UID:10000062-1727697600-1727704800@earlybirdsport.com
SUMMARY:Bournemouth vs Southampton
DESCRIPTION:
URL:https://earlybirdsport.com/event/bournemouth-vs-southampton/
LOCATION:Irish Times\, 3267 Motor Ave\, Los Angeles\, CA\, 90034\, United States
CATEGORIES:Premier League
ATTACH;FMTTYPE=image/png:https://earlybirdsport.com/wp-content/uploads/2024/09/Bournemouth-vs-Southampton.png
ORGANIZER;CN="Early Bird Sport":MAILTO:info@earlybirdsport.com
END:VEVENT
BEGIN:VEVENT
DTSTART;TZID=UTC:20240929T083000
DTEND;TZID=UTC:20240929T103000
DTSTAMP:20260423T035151
CREATED:20240917T200654Z
LAST-MODIFIED:20240917T201551Z
UID:10000061-1727598600-1727605800@earlybirdsport.com
SUMMARY:Manchester United vs Tottenham
DESCRIPTION:
URL:https://earlybirdsport.com/event/manchester-united-vs-tottenham/
LOCATION:Irish Times\, 3267 Motor Ave\, Los Angeles\, CA\, 90034\, United States
CATEGORIES:Premier League
ATTACH;FMTTYPE=image/png:https://earlybirdsport.com/wp-content/uploads/2024/09/Manchester-United-vs-Tottenham.png
ORGANIZER;CN="Early Bird Sport":MAILTO:info@earlybirdsport.com
END:VEVENT
BEGIN:VEVENT
DTSTART;TZID=UTC:20240928T093000
DTEND;TZID=UTC:20240928T113000
DTSTAMP:20260423T035151
CREATED:20240917T200044Z
LAST-MODIFIED:20240917T200044Z
UID:10000059-1727515800-1727523000@earlybirdsport.com
SUMMARY:Wolves vs Liverpool
DESCRIPTION:
URL:https://earlybirdsport.com/event/wolves-vs-liverpool/
LOCATION:12821 W Washington Blvd Ste 103\, Los Angeles\, CA\, 90066\, United States
CATEGORIES:Premier League
ATTACH;FMTTYPE=image/png:https://earlybirdsport.com/wp-content/uploads/2024/09/Wolves-vs-Liverpool.png
ORGANIZER;CN="Early Bird Sport":MAILTO:info@earlybirdsport.com
END:VEVENT
BEGIN:VEVENT
DTSTART;TZID=UTC:20240921T093000
DTEND;TZID=UTC:20240921T113000
DTSTAMP:20260423T035151
CREATED:20240829T223238Z
LAST-MODIFIED:20240829T223238Z
UID:10000046-1726911000-1726918200@earlybirdsport.com
SUMMARY:Crystal Palace vs Manchester United
DESCRIPTION:
URL:https://earlybirdsport.com/event/crystal-palace-vs-manchester-united/
LOCATION:Irish Times\, 3267 Motor Ave\, Los Angeles\, CA\, 90034\, United States
CATEGORIES:Premier League
ATTACH;FMTTYPE=image/png:https://earlybirdsport.com/wp-content/uploads/2024/08/Crystal-Palace-vs-Manchester-United.png
ORGANIZER;CN="Early Bird Sport":MAILTO:info@earlybirdsport.com
END:VEVENT
BEGIN:VEVENT
DTSTART;TZID=UTC:20240921T070000
DTEND;TZID=UTC:20240921T090000
DTSTAMP:20260423T035151
CREATED:20240829T224606Z
LAST-MODIFIED:20240829T224606Z
UID:10000049-1726902000-1726909200@earlybirdsport.com
SUMMARY:Tottenham vs Brentford
DESCRIPTION:
URL:https://earlybirdsport.com/event/tottenham-vs-brentford/
LOCATION:N17 The Lane\, 12821 W Washington Blvd Ste 103\, Los Angeles\, CA\, 90066\, United States
CATEGORIES:Premier League
ATTACH;FMTTYPE=image/png:https://earlybirdsport.com/wp-content/uploads/2024/08/Tottenham-vs-Brentford.png
ORGANIZER;CN="Early Bird Sport":MAILTO:info@earlybirdsport.com
END:VEVENT
BEGIN:VEVENT
DTSTART;TZID=UTC:20240915T083000
DTEND;TZID=UTC:20240915T103000
DTSTAMP:20260423T035151
CREATED:20240826T191840Z
LAST-MODIFIED:20240827T212526Z
UID:10000034-1726389000-1726396200@earlybirdsport.com
SUMMARY:Wolves vs Newcastle
DESCRIPTION:
URL:https://earlybirdsport.com/event/wolves-vs-newcastle/
LOCATION:N17 The Lane\, 12821 W Washington Blvd Ste 103\, Los Angeles\, CA\, 90066\, United States
CATEGORIES:Premier League
ATTACH;FMTTYPE=image/png:https://earlybirdsport.com/wp-content/uploads/2024/08/wolves-vs-newcastle.png
ORGANIZER;CN="Early Bird Sport":MAILTO:info@earlybirdsport.com
END:VEVENT
BEGIN:VEVENT
DTSTART;TZID=UTC:20240914T120000
DTEND;TZID=UTC:20240914T140000
DTSTAMP:20260423T035151
CREATED:20240826T194145Z
LAST-MODIFIED:20240826T194145Z
UID:10000036-1726315200-1726322400@earlybirdsport.com
SUMMARY:Bournemouth vs Chelsea
DESCRIPTION:
URL:https://earlybirdsport.com/event/bournemouth-vs-chelsea/
LOCATION:N17 The Lane\, 12821 W Washington Blvd Ste 103\, Los Angeles\, CA\, 90066\, United States
CATEGORIES:Premier League
ATTACH;FMTTYPE=image/png:https://earlybirdsport.com/wp-content/uploads/2024/08/Bournemouth-vs-Chelsea.png
ORGANIZER;CN="Early Bird Sport":MAILTO:info@earlybirdsport.com
END:VEVENT
BEGIN:VEVENT
DTSTART;TZID=UTC:20240914T093000
DTEND;TZID=UTC:20240914T113000
DTSTAMP:20260423T035151
CREATED:20240826T194601Z
LAST-MODIFIED:20240826T195718Z
UID:10000037-1726306200-1726313400@earlybirdsport.com
SUMMARY:Aston Villa vs Everton
DESCRIPTION:
URL:https://earlybirdsport.com/event/aston-villa-vs-everton/
LOCATION:N17 The Lane\, 12821 W Washington Blvd Ste 103\, Los Angeles\, CA\, 90066\, United States
CATEGORIES:Premier League
ATTACH;FMTTYPE=image/png:https://earlybirdsport.com/wp-content/uploads/2024/08/Aston-Villa-vs-Everton.png
ORGANIZER;CN="Early Bird Sport":MAILTO:info@earlybirdsport.com
END:VEVENT
BEGIN:VEVENT
DTSTART;TZID=UTC:20240901T080000
DTEND;TZID=UTC:20240901T100000
DTSTAMP:20260423T035151
CREATED:20240801T150013Z
LAST-MODIFIED:20240827T231154Z
UID:10000005-1725177600-1725184800@earlybirdsport.com
SUMMARY:Manchester United vs Liverpool
DESCRIPTION:
URL:https://earlybirdsport.com/event/manchester-united-vs-liverpool/
LOCATION:Joxer Daly’s\, 11168 Washington Blvd\, Culver City\, 90232\, United States
CATEGORIES:Premier League
ATTACH;FMTTYPE=image/png:https://earlybirdsport.com/wp-content/uploads/2024/08/Manchester-United-vs-Liverpool.png
ORGANIZER;CN="Early Bird Sport":MAILTO:info@earlybirdsport.com
END:VEVENT
BEGIN:VEVENT
DTSTART;TZID=UTC:20240901T053000
DTEND;TZID=UTC:20240901T073000
DTSTAMP:20260423T035151
CREATED:20240801T150238Z
LAST-MODIFIED:20240820T193444Z
UID:10000006-1725168600-1725175800@earlybirdsport.com
SUMMARY:Newcastle vs Tottenham
DESCRIPTION:
URL:https://earlybirdsport.com/event/newcastle-vs-tottenham/
LOCATION:N17 The Lane\, 12821 W Washington Blvd Ste 103\, Los Angeles\, CA\, 90066\, United States
CATEGORIES:Premier League
ATTACH;FMTTYPE=image/png:https://earlybirdsport.com/wp-content/uploads/2024/08/Newcastle-vs-Tottenham.png
ORGANIZER;CN="Early Bird Sport":MAILTO:info@earlybirdsport.com
END:VEVENT
BEGIN:VEVENT
DTSTART;TZID=UTC:20240831T093000
DTEND;TZID=UTC:20240831T113000
DTSTAMP:20260423T035151
CREATED:20240801T150355Z
LAST-MODIFIED:20240820T192937Z
UID:10000008-1725096600-1725103800@earlybirdsport.com
SUMMARY:West Ham vs Manchester City
DESCRIPTION:
URL:https://earlybirdsport.com/event/west-ham-vs-manchester-city/
LOCATION:Joxer Daly’s\, 11168 Washington Blvd\, Culver City\, 90232\, United States
CATEGORIES:Premier League
ATTACH;FMTTYPE=image/png:https://earlybirdsport.com/wp-content/uploads/2024/08/West-Ham-vs-Manchester-City.png
ORGANIZER;CN="Early Bird Sport":MAILTO:info@earlybirdsport.com
END:VEVENT
BEGIN:VEVENT
DTSTART;TZID=UTC:20240824T093000
DTEND;TZID=UTC:20240824T113000
DTSTAMP:20260423T035151
CREATED:20240801T150330Z
LAST-MODIFIED:20240820T190211Z
UID:10000018-1724491800-1724499000@earlybirdsport.com
SUMMARY:Aston Villa vs Arsenal
DESCRIPTION:
URL:https://earlybirdsport.com/event/aston-villa-vs-arsenal/
LOCATION:Joxer Daly’s\, 11168 Washington Blvd\, Culver City\, 90232\, United States
CATEGORIES:Premier League
ATTACH;FMTTYPE=image/png:https://earlybirdsport.com/wp-content/uploads/2024/08/Aston-Villa-vs-Arsenal.png
ORGANIZER;CN="Early Bird Sport":MAILTO:info@earlybirdsport.com
END:VEVENT
BEGIN:VEVENT
DTSTART;TZID=UTC:20240824T070000
DTEND;TZID=UTC:20240824T090000
DTSTAMP:20260423T035151
CREATED:20240801T150329Z
LAST-MODIFIED:20240821T214411Z
UID:10000023-1724482800-1724490000@earlybirdsport.com
SUMMARY:Tottenham vs Everton
DESCRIPTION:
URL:https://earlybirdsport.com/event/tottenham-vs-everton/
LOCATION:N17 The Lane\, 12821 W Washington Blvd Ste 103\, Los Angeles\, CA\, 90066\, United States
CATEGORIES:Premier League
ATTACH;FMTTYPE=image/png:https://earlybirdsport.com/wp-content/uploads/2024/08/Tottenham-vs-Everton.png
ORGANIZER;CN="Early Bird Sport":MAILTO:info@earlybirdsport.com
END:VEVENT
BEGIN:VEVENT
DTSTART;TZID=UTC:20240819T120000
DTEND;TZID=UTC:20240819T140000
DTSTAMP:20260423T035151
CREATED:20240801T150329Z
LAST-MODIFIED:20240821T214441Z
UID:10000025-1724068800-1724076000@earlybirdsport.com
SUMMARY:Leicester City vs Tottenham
DESCRIPTION:
URL:https://earlybirdsport.com/event/leicester-city-vs-tottenham/
LOCATION:N17 The Lane\, 12821 W Washington Blvd Ste 103\, Los Angeles\, CA\, 90066\, United States
CATEGORIES:Premier League
ORGANIZER;CN="Early Bird Sport":MAILTO:info@earlybirdsport.com
END:VEVENT
BEGIN:VEVENT
DTSTART;TZID=UTC:20240818T083000
DTEND;TZID=UTC:20240818T103000
DTSTAMP:20260423T035151
CREATED:20240801T150329Z
LAST-MODIFIED:20240809T172116Z
UID:10000026-1723969800-1723977000@earlybirdsport.com
SUMMARY:Chelsea vs Manchester City
DESCRIPTION:
URL:https://earlybirdsport.com/event/chelsea-vs-manchester-city/
LOCATION:Joxer Daly’s\, 11168 Washington Blvd\, Culver City\, 90232\, United States
CATEGORIES:Premier League
ORGANIZER;CN="Early Bird Sport":MAILTO:info@earlybirdsport.com
END:VEVENT
BEGIN:VEVENT
DTSTART;TZID=UTC:20240818T060000
DTEND;TZID=UTC:20240818T080000
DTSTAMP:20260423T035151
CREATED:20240801T150328Z
LAST-MODIFIED:20240809T172055Z
UID:10000029-1723960800-1723968000@earlybirdsport.com
SUMMARY:Brentford vs Crystal Palace
DESCRIPTION:
URL:https://earlybirdsport.com/event/brentford-vs-crystal-palace/
LOCATION:Joxer Daly’s\, 11168 Washington Blvd\, Culver City\, 90232\, United States
CATEGORIES:Premier League
ORGANIZER;CN="Early Bird Sport":MAILTO:info@earlybirdsport.com
END:VEVENT
BEGIN:VEVENT
DTSTART;TZID=UTC:20240817T093000
DTEND;TZID=UTC:20240817T113000
DTSTAMP:20260423T035151
CREATED:20240801T150328Z
LAST-MODIFIED:20240809T172026Z
UID:10000027-1723887000-1723894200@earlybirdsport.com
SUMMARY:West Ham vs Aston Villa
DESCRIPTION:
URL:https://earlybirdsport.com/event/west-ham-vs-aston-villa/
LOCATION:Joxer Daly’s\, 11168 Washington Blvd\, Culver City\, 90232\, United States
CATEGORIES:Premier League
ORGANIZER;CN="Early Bird Sport":MAILTO:info@earlybirdsport.com
END:VEVENT
BEGIN:VEVENT
DTSTART;TZID=UTC:20240817T070000
DTEND;TZID=UTC:20240817T090000
DTSTAMP:20260423T035151
CREATED:20240801T150328Z
LAST-MODIFIED:20240809T171948Z
UID:10000031-1723878000-1723885200@earlybirdsport.com
SUMMARY:Everton vs Brighton
DESCRIPTION:
URL:https://earlybirdsport.com/event/everton-vs-brighton/
LOCATION:Joxer Daly’s\, 11168 Washington Blvd\, Culver City\, 90232\, United States
CATEGORIES:Premier League
ORGANIZER;CN="Early Bird Sport":MAILTO:info@earlybirdsport.com
END:VEVENT
BEGIN:VEVENT
DTSTART;TZID=UTC:20240817T070000
DTEND;TZID=UTC:20240817T090000
DTSTAMP:20260423T035151
CREATED:20240801T150328Z
LAST-MODIFIED:20240809T171841Z
UID:10000030-1723878000-1723885200@earlybirdsport.com
SUMMARY:Newcastle vs Southampton
DESCRIPTION:
URL:https://earlybirdsport.com/event/newcastle-vs-southampton/
LOCATION:Joxer Daly’s\, 11168 Washington Blvd\, Culver City\, 90232\, United States
CATEGORIES:Premier League
ORGANIZER;CN="Early Bird Sport":MAILTO:info@earlybirdsport.com
END:VEVENT
BEGIN:VEVENT
DTSTART;TZID=UTC:20240817T070000
DTEND;TZID=UTC:20240817T090000
DTSTAMP:20260423T035151
CREATED:20240801T150328Z
LAST-MODIFIED:20240809T171818Z
UID:10000028-1723878000-1723885200@earlybirdsport.com
SUMMARY:Nottingham Forest vs Bournemouth
DESCRIPTION:
URL:https://earlybirdsport.com/event/nottingham-forest-vs-bournemouth/
LOCATION:Joxer Daly’s\, 11168 Washington Blvd\, Culver City\, 90232\, United States
CATEGORIES:Premier League
ORGANIZER;CN="Early Bird Sport":MAILTO:info@earlybirdsport.com
END:VEVENT
END:VCALENDAR