BEGIN:VCALENDAR
VERSION:2.0
PRODID:-//Early Bird Sport - ECPv6.8.2.1//NONSGML v1.0//EN
CALSCALE:GREGORIAN
METHOD:PUBLISH
X-ORIGINAL-URL:https://earlybirdsport.com
X-WR-CALDESC:Events for Early Bird Sport
REFRESH-INTERVAL;VALUE=DURATION:PT1H
X-Robots-Tag:noindex
X-PUBLISHED-TTL:PT1H
BEGIN:VTIMEZONE
TZID:UTC
BEGIN:STANDARD
TZOFFSETFROM:+0000
TZOFFSETTO:+0000
TZNAME:UTC
DTSTART:20240101T000000
END:STANDARD
END:VTIMEZONE
BEGIN:VEVENT
DTSTART;TZID=UTC:20250101T093000
DTEND;TZID=UTC:20250101T113000
DTSTAMP:20260421T021747
CREATED:20241219T195347Z
LAST-MODIFIED:20241219T195347Z
UID:10000206-1735723800-1735731000@earlybirdsport.com
SUMMARY:Brentford vs Arsenal
DESCRIPTION:
URL:https://earlybirdsport.com/event/brentford-vs-arsenal/
LOCATION:Joxer Daly’s\, 11168 Washington Blvd\, Culver City\, 90232\, United States
CATEGORIES:Premier League
ATTACH;FMTTYPE=image/png:https://earlybirdsport.com/wp-content/uploads/2024/12/Brentford-vs-Arsenal.png
ORGANIZER;CN="Early Bird Sport":MAILTO:info@earlybirdsport.com
END:VEVENT
BEGIN:VEVENT
DTSTART;TZID=UTC:20241227T120000
DTEND;TZID=UTC:20241227T140000
DTSTAMP:20260421T021747
CREATED:20241219T193733Z
LAST-MODIFIED:20241219T193733Z
UID:10000202-1735300800-1735308000@earlybirdsport.com
SUMMARY:Arsenal vs Ipswich Town
DESCRIPTION:
URL:https://earlybirdsport.com/event/arsenal-vs-ipswich-town/
LOCATION:Joxer Daly’s\, 11168 Washington Blvd\, Culver City\, 90232\, United States
CATEGORIES:Premier League
ATTACH;FMTTYPE=image/png:https://earlybirdsport.com/wp-content/uploads/2024/12/Arsenal-vs-Ipswich-Town.png
ORGANIZER;CN="Early Bird Sport":MAILTO:info@earlybirdsport.com
END:VEVENT
BEGIN:VEVENT
DTSTART;TZID=UTC:20241221T093000
DTEND;TZID=UTC:20241221T113000
DTSTAMP:20260421T021747
CREATED:20241217T193635Z
LAST-MODIFIED:20241217T193635Z
UID:10000195-1734773400-1734780600@earlybirdsport.com
SUMMARY:Crystal Palace vs Arsenal
DESCRIPTION:
URL:https://earlybirdsport.com/event/crystal-palace-vs-arsenal/
LOCATION:Joxer Daly’s\, 11168 Washington Blvd\, Culver City\, 90232\, United States
CATEGORIES:Premier League
ATTACH;FMTTYPE=image/png:https://earlybirdsport.com/wp-content/uploads/2024/12/Crystal-Palace-vs-Arsenal.png
ORGANIZER;CN="Early Bird Sport":MAILTO:info@earlybirdsport.com
END:VEVENT
BEGIN:VEVENT
DTSTART;TZID=UTC:20241215T083000
DTEND;TZID=UTC:20241215T103000
DTSTAMP:20260421T021747
CREATED:20241205T233707Z
LAST-MODIFIED:20241205T233707Z
UID:10000193-1734251400-1734258600@earlybirdsport.com
SUMMARY:Manchester City vs Manchester United
DESCRIPTION:
URL:https://earlybirdsport.com/event/manchester-city-vs-manchester-united/
LOCATION:Joxer Daly’s\, 11168 Washington Blvd\, Culver City\, 90232\, United States
CATEGORIES:Premier League
ATTACH;FMTTYPE=image/png:https://earlybirdsport.com/wp-content/uploads/2024/12/Manchester-City-vs-Manchester-United.png
ORGANIZER;CN="Early Bird Sport":MAILTO:info@earlybirdsport.com
END:VEVENT
BEGIN:VEVENT
DTSTART;TZID=UTC:20241208T060000
DTEND;TZID=UTC:20241208T080000
DTSTAMP:20260421T021747
CREATED:20241202T184412Z
LAST-MODIFIED:20241202T184412Z
UID:10000189-1733637600-1733644800@earlybirdsport.com
SUMMARY:Fulham vs Arsenal
DESCRIPTION:
URL:https://earlybirdsport.com/event/fulham-vs-arsenal/
LOCATION:Joxer Daly’s\, 11168 Washington Blvd\, Culver City\, 90232\, United States
CATEGORIES:Premier League
ATTACH;FMTTYPE=image/png:https://earlybirdsport.com/wp-content/uploads/2024/12/Fulham-vs-Arsenal.png
ORGANIZER;CN="Early Bird Sport":MAILTO:info@earlybirdsport.com
END:VEVENT
BEGIN:VEVENT
DTSTART;TZID=UTC:20241204T120000
DTEND;TZID=UTC:20241204T140000
DTSTAMP:20260421T021747
CREATED:20241121T204253Z
LAST-MODIFIED:20241121T204253Z
UID:10000186-1733313600-1733320800@earlybirdsport.com
SUMMARY:Arsenal vs Manchester United
DESCRIPTION:
URL:https://earlybirdsport.com/event/arsenal-vs-manchester-united/
LOCATION:Joxer Daly’s\, 11168 Washington Blvd\, Culver City\, 90232\, United States
CATEGORIES:Premier League
ATTACH;FMTTYPE=image/png:https://earlybirdsport.com/wp-content/uploads/2024/11/Arsenal-vs-Nottingham-Forest.png
ORGANIZER;CN="Early Bird Sport":MAILTO:info@earlybirdsport.com
END:VEVENT
BEGIN:VEVENT
DTSTART;TZID=UTC:20241130T093000
DTEND;TZID=UTC:20241130T113000
DTSTAMP:20260421T021747
CREATED:20241120T210022Z
LAST-MODIFIED:20241120T210022Z
UID:10000179-1732959000-1732966200@earlybirdsport.com
SUMMARY:West Ham vs Arsenal
DESCRIPTION:
URL:https://earlybirdsport.com/event/west-ham-vs-arsenal/
LOCATION:Joxer Daly’s\, 11168 Washington Blvd\, Culver City\, 90232\, United States
CATEGORIES:Premier League
ATTACH;FMTTYPE=image/png:https://earlybirdsport.com/wp-content/uploads/2024/11/West-Ham-vs-Arsenal.png
ORGANIZER;CN="Early Bird Sport":MAILTO:info@earlybirdsport.com
END:VEVENT
BEGIN:VEVENT
DTSTART;TZID=UTC:20241104T120000
DTEND;TZID=UTC:20241104T140000
DTSTAMP:20260421T021747
CREATED:20240918T172353Z
LAST-MODIFIED:20240918T172353Z
UID:10000102-1730721600-1730728800@earlybirdsport.com
SUMMARY:Fulham vs Brentford
DESCRIPTION:
URL:https://earlybirdsport.com/event/fulham-vs-brentford/
LOCATION:Irish Times\, 3267 Motor Ave\, Los Angeles\, CA\, 90034\, United States
CATEGORIES:Premier League
ATTACH;FMTTYPE=image/png:https://earlybirdsport.com/wp-content/uploads/2024/09/Fulham-vs-Brentford.png
ORGANIZER;CN="Early Bird Sport":MAILTO:info@earlybirdsport.com
END:VEVENT
BEGIN:VEVENT
DTSTART;TZID=UTC:20241102T103000
DTEND;TZID=UTC:20241102T123000
DTSTAMP:20260421T021747
CREATED:20240918T171247Z
LAST-MODIFIED:20240918T171247Z
UID:10000099-1730543400-1730550600@earlybirdsport.com
SUMMARY:Wolves vs Crystal Palace
DESCRIPTION:
URL:https://earlybirdsport.com/event/wolves-vs-crystal-palace/
LOCATION:Irish Times\, 3267 Motor Ave\, Los Angeles\, CA\, 90034\, United States
CATEGORIES:Premier League
ATTACH;FMTTYPE=image/png:https://earlybirdsport.com/wp-content/uploads/2024/09/Wolves-vs-Crystal-Palace.png
ORGANIZER;CN="Early Bird Sport":MAILTO:info@earlybirdsport.com
END:VEVENT
BEGIN:VEVENT
DTSTART;TZID=UTC:20241025T120000
DTEND;TZID=UTC:20241025T140000
DTSTAMP:20260421T021747
CREATED:20240917T212912Z
LAST-MODIFIED:20240917T212912Z
UID:10000083-1729857600-1729864800@earlybirdsport.com
SUMMARY:Leicester City vs Nottingham Forest
DESCRIPTION:
URL:https://earlybirdsport.com/event/leicester-city-vs-nottingham-forest/
LOCATION:Irish Times\, 3267 Motor Ave\, Los Angeles\, CA\, 90034\, United States
CATEGORIES:Premier League
ATTACH;FMTTYPE=image/png:https://earlybirdsport.com/wp-content/uploads/2024/09/Leicester-City-vs-Nottingham-Forest.png
ORGANIZER;CN="Early Bird Sport":MAILTO:info@earlybirdsport.com
END:VEVENT
BEGIN:VEVENT
DTSTART;TZID=UTC:20241021T120000
DTEND;TZID=UTC:20241021T140000
DTSTAMP:20260421T021747
CREATED:20240917T212455Z
LAST-MODIFIED:20240917T212455Z
UID:10000082-1729512000-1729519200@earlybirdsport.com
SUMMARY:Nottingham Forest vs Crystal Palace
DESCRIPTION:
URL:https://earlybirdsport.com/event/nottingham-forest-vs-crystal-palace/
LOCATION:Irish Times\, 3267 Motor Ave\, Los Angeles\, CA\, 90034\, United States
CATEGORIES:Premier League
ATTACH;FMTTYPE=image/png:https://earlybirdsport.com/wp-content/uploads/2024/09/Nottingham-Forest-vs-Crystal-Palace.png
ORGANIZER;CN="Early Bird Sport":MAILTO:info@earlybirdsport.com
END:VEVENT
BEGIN:VEVENT
DTSTART;TZID=UTC:20240930T120000
DTEND;TZID=UTC:20240930T140000
DTSTAMP:20260421T021747
CREATED:20240917T201705Z
LAST-MODIFIED:20240917T213316Z
UID:10000062-1727697600-1727704800@earlybirdsport.com
SUMMARY:Bournemouth vs Southampton
DESCRIPTION:
URL:https://earlybirdsport.com/event/bournemouth-vs-southampton/
LOCATION:Irish Times\, 3267 Motor Ave\, Los Angeles\, CA\, 90034\, United States
CATEGORIES:Premier League
ATTACH;FMTTYPE=image/png:https://earlybirdsport.com/wp-content/uploads/2024/09/Bournemouth-vs-Southampton.png
ORGANIZER;CN="Early Bird Sport":MAILTO:info@earlybirdsport.com
END:VEVENT
BEGIN:VEVENT
DTSTART;TZID=UTC:20240914T120000
DTEND;TZID=UTC:20240914T140000
DTSTAMP:20260421T021747
CREATED:20240826T194145Z
LAST-MODIFIED:20240826T194145Z
UID:10000036-1726315200-1726322400@earlybirdsport.com
SUMMARY:Bournemouth vs Chelsea
DESCRIPTION:
URL:https://earlybirdsport.com/event/bournemouth-vs-chelsea/
LOCATION:N17 The Lane\, 12821 W Washington Blvd Ste 103\, Los Angeles\, CA\, 90066\, United States
CATEGORIES:Premier League
ATTACH;FMTTYPE=image/png:https://earlybirdsport.com/wp-content/uploads/2024/08/Bournemouth-vs-Chelsea.png
ORGANIZER;CN="Early Bird Sport":MAILTO:info@earlybirdsport.com
END:VEVENT
BEGIN:VEVENT
DTSTART;TZID=UTC:20240901T080000
DTEND;TZID=UTC:20240901T100000
DTSTAMP:20260421T021747
CREATED:20240801T150013Z
LAST-MODIFIED:20240827T231154Z
UID:10000005-1725177600-1725184800@earlybirdsport.com
SUMMARY:Manchester United vs Liverpool
DESCRIPTION:
URL:https://earlybirdsport.com/event/manchester-united-vs-liverpool/
LOCATION:Joxer Daly’s\, 11168 Washington Blvd\, Culver City\, 90232\, United States
CATEGORIES:Premier League
ATTACH;FMTTYPE=image/png:https://earlybirdsport.com/wp-content/uploads/2024/08/Manchester-United-vs-Liverpool.png
ORGANIZER;CN="Early Bird Sport":MAILTO:info@earlybirdsport.com
END:VEVENT
BEGIN:VEVENT
DTSTART;TZID=UTC:20240901T053000
DTEND;TZID=UTC:20240901T073000
DTSTAMP:20260421T021747
CREATED:20240801T150355Z
LAST-MODIFIED:20240820T193424Z
UID:10000007-1725168600-1725175800@earlybirdsport.com
SUMMARY:Chelsea vs Crystal Palace
DESCRIPTION:
URL:https://earlybirdsport.com/event/chelsea-vs-crystal-palace/
LOCATION:Joxer Daly’s\, 11168 Washington Blvd\, Culver City\, 90232\, United States
CATEGORIES:Premier League
ATTACH;FMTTYPE=image/png:https://earlybirdsport.com/wp-content/uploads/2024/08/Chelsea-vs-Crrystal-Palace.png
ORGANIZER;CN="Early Bird Sport":MAILTO:info@earlybirdsport.com
END:VEVENT
BEGIN:VEVENT
DTSTART;TZID=UTC:20240901T053000
DTEND;TZID=UTC:20240901T073000
DTSTAMP:20260421T021747
CREATED:20240801T150238Z
LAST-MODIFIED:20240820T193444Z
UID:10000006-1725168600-1725175800@earlybirdsport.com
SUMMARY:Newcastle vs Tottenham
DESCRIPTION:
URL:https://earlybirdsport.com/event/newcastle-vs-tottenham/
LOCATION:N17 The Lane\, 12821 W Washington Blvd Ste 103\, Los Angeles\, CA\, 90066\, United States
CATEGORIES:Premier League
ATTACH;FMTTYPE=image/png:https://earlybirdsport.com/wp-content/uploads/2024/08/Newcastle-vs-Tottenham.png
ORGANIZER;CN="Early Bird Sport":MAILTO:info@earlybirdsport.com
END:VEVENT
BEGIN:VEVENT
DTSTART;TZID=UTC:20240831T093000
DTEND;TZID=UTC:20240831T113000
DTSTAMP:20260421T021747
CREATED:20240801T150355Z
LAST-MODIFIED:20240820T192937Z
UID:10000008-1725096600-1725103800@earlybirdsport.com
SUMMARY:West Ham vs Manchester City
DESCRIPTION:
URL:https://earlybirdsport.com/event/west-ham-vs-manchester-city/
LOCATION:Joxer Daly’s\, 11168 Washington Blvd\, Culver City\, 90232\, United States
CATEGORIES:Premier League
ATTACH;FMTTYPE=image/png:https://earlybirdsport.com/wp-content/uploads/2024/08/West-Ham-vs-Manchester-City.png
ORGANIZER;CN="Early Bird Sport":MAILTO:info@earlybirdsport.com
END:VEVENT
BEGIN:VEVENT
DTSTART;TZID=UTC:20240831T070000
DTEND;TZID=UTC:20240831T090000
DTSTAMP:20260421T021747
CREATED:20240801T150355Z
LAST-MODIFIED:20240820T192826Z
UID:10000009-1725087600-1725094800@earlybirdsport.com
SUMMARY:Everton vs Bournemouth
DESCRIPTION:
URL:https://earlybirdsport.com/event/everton-vs-bournemouth/
LOCATION:Joxer Daly’s\, 11168 Washington Blvd\, Culver City\, 90232\, United States
CATEGORIES:Premier League
ATTACH;FMTTYPE=image/png:https://earlybirdsport.com/wp-content/uploads/2024/08/Everton-vs-Bournemouth.png
ORGANIZER;CN="Early Bird Sport":MAILTO:info@earlybirdsport.com
END:VEVENT
BEGIN:VEVENT
DTSTART;TZID=UTC:20240831T070000
DTEND;TZID=UTC:20240831T090000
DTSTAMP:20260421T021747
CREATED:20240801T150355Z
LAST-MODIFIED:20240820T192505Z
UID:10000010-1725087600-1725094800@earlybirdsport.com
SUMMARY:Brentford vs Southampton
DESCRIPTION:
URL:https://earlybirdsport.com/event/brentford-vs-southampton/
LOCATION:Irish Times\, 3267 Motor Ave\, Los Angeles\, CA\, 90034\, United States
CATEGORIES:Premier League
ATTACH;FMTTYPE=image/png:https://earlybirdsport.com/wp-content/uploads/2024/08/Brentford-vs-Southhampton.png
ORGANIZER;CN="Early Bird Sport":MAILTO:info@earlybirdsport.com
END:VEVENT
BEGIN:VEVENT
DTSTART;TZID=UTC:20240831T070000
DTEND;TZID=UTC:20240831T090000
DTSTAMP:20260421T021747
CREATED:20240801T150355Z
LAST-MODIFIED:20240820T192259Z
UID:10000011-1725087600-1725094800@earlybirdsport.com
SUMMARY:Ipswich Town vs Fulham
DESCRIPTION:
URL:https://earlybirdsport.com/event/ipswich-town-vs-fulham/
LOCATION:Joxer Daly’s\, 11168 Washington Blvd\, Culver City\, 90232\, United States
CATEGORIES:Premier League
ATTACH;FMTTYPE=image/png:https://earlybirdsport.com/wp-content/uploads/2024/08/Ispwich-Town-vs-Fulham.png
ORGANIZER;CN="Early Bird Sport":MAILTO:info@earlybirdsport.com
END:VEVENT
BEGIN:VEVENT
DTSTART;TZID=UTC:20240831T070000
DTEND;TZID=UTC:20240831T090000
DTSTAMP:20260421T021748
CREATED:20240801T150354Z
LAST-MODIFIED:20240820T191712Z
UID:10000012-1725087600-1725094800@earlybirdsport.com
SUMMARY:Leicester City vs Aston Villa
DESCRIPTION:
URL:https://earlybirdsport.com/event/leicester-city-vs-aston-villa/
LOCATION:Joxer Daly’s\, 11168 Washington Blvd\, Culver City\, 90232\, United States
CATEGORIES:Premier League
ATTACH;FMTTYPE=image/png:https://earlybirdsport.com/wp-content/uploads/2024/08/Leicester-City-vs-Aston-Villa.png
ORGANIZER;CN="Early Bird Sport":MAILTO:info@earlybirdsport.com
END:VEVENT
BEGIN:VEVENT
DTSTART;TZID=UTC:20240831T070000
DTEND;TZID=UTC:20240831T090000
DTSTAMP:20260421T021748
CREATED:20240801T150354Z
LAST-MODIFIED:20240820T190813Z
UID:10000013-1725087600-1725094800@earlybirdsport.com
SUMMARY:Nottingham Forest vs Wolves
DESCRIPTION:
URL:https://earlybirdsport.com/event/nottingham-forest-vs-wolves/
LOCATION:Joxer Daly’s\, 11168 Washington Blvd\, Culver City\, 90232\, United States
CATEGORIES:Premier League
ATTACH;FMTTYPE=image/png:https://earlybirdsport.com/wp-content/uploads/2024/08/Nottingham-Forest-vs-Wolves.png
ORGANIZER;CN="Early Bird Sport":MAILTO:info@earlybirdsport.com
END:VEVENT
BEGIN:VEVENT
DTSTART;TZID=UTC:20240831T043000
DTEND;TZID=UTC:20240831T063000
DTSTAMP:20260421T021748
CREATED:20240801T150331Z
LAST-MODIFIED:20240820T184339Z
UID:10000014-1725078600-1725085800@earlybirdsport.com
SUMMARY:Arsenal vs Brighton
DESCRIPTION:
URL:https://earlybirdsport.com/event/arsenal-vs-brighton/
LOCATION:Joxer Daly’s\, 11168 Washington Blvd\, Culver City\, 90232\, United States
CATEGORIES:Premier League
ATTACH;FMTTYPE=image/png:https://earlybirdsport.com/wp-content/uploads/2024/08/Arsenal-vs-Brighton.png
ORGANIZER;CN="Early Bird Sport":MAILTO:info@earlybirdsport.com
END:VEVENT
BEGIN:VEVENT
DTSTART;TZID=UTC:20240825T083000
DTEND;TZID=UTC:20240825T103000
DTSTAMP:20260421T021748
CREATED:20240801T150331Z
LAST-MODIFIED:20240820T184745Z
UID:10000015-1724574600-1724581800@earlybirdsport.com
SUMMARY:Liverpool vs Brentford
DESCRIPTION:
URL:https://earlybirdsport.com/event/liverpool-vs-brentford/
LOCATION:Joxer Daly’s\, 11168 Washington Blvd\, Culver City\, 90232\, United States
CATEGORIES:Premier League
ATTACH;FMTTYPE=image/png:https://earlybirdsport.com/wp-content/uploads/2024/08/Liverpool-vs-Brentford.png
ORGANIZER;CN="Early Bird Sport":MAILTO:info@earlybirdsport.com
END:VEVENT
BEGIN:VEVENT
DTSTART;TZID=UTC:20240825T060000
DTEND;TZID=UTC:20240825T080000
DTSTAMP:20260421T021748
CREATED:20240801T150331Z
LAST-MODIFIED:20240820T185713Z
UID:10000016-1724565600-1724572800@earlybirdsport.com
SUMMARY:Wolves vs Chelsea
DESCRIPTION:
URL:https://earlybirdsport.com/event/wolves-vs-chelsea/
LOCATION:Joxer Daly’s\, 11168 Washington Blvd\, Culver City\, 90232\, United States
CATEGORIES:Premier League
ATTACH;FMTTYPE=image/png:https://earlybirdsport.com/wp-content/uploads/2024/08/Wolves-vs-Chelsea.png
ORGANIZER;CN="Early Bird Sport":MAILTO:info@earlybirdsport.com
END:VEVENT
BEGIN:VEVENT
DTSTART;TZID=UTC:20240825T060000
DTEND;TZID=UTC:20240825T080000
DTSTAMP:20260421T021748
CREATED:20240801T150331Z
LAST-MODIFIED:20240820T190720Z
UID:10000017-1724565600-1724572800@earlybirdsport.com
SUMMARY:Bournemouth vs Newcastle
DESCRIPTION:
URL:https://earlybirdsport.com/event/bournemouth-vs-newcastle/
LOCATION:Joxer Daly’s\, 11168 Washington Blvd\, Culver City\, 90232\, United States
CATEGORIES:Premier League
ATTACH;FMTTYPE=image/png:https://earlybirdsport.com/wp-content/uploads/2024/08/Bournemouth-vs-Newcastle.png
ORGANIZER;CN="Early Bird Sport":MAILTO:info@earlybirdsport.com
END:VEVENT
BEGIN:VEVENT
DTSTART;TZID=UTC:20240824T093000
DTEND;TZID=UTC:20240824T113000
DTSTAMP:20260421T021748
CREATED:20240801T150330Z
LAST-MODIFIED:20240820T190211Z
UID:10000018-1724491800-1724499000@earlybirdsport.com
SUMMARY:Aston Villa vs Arsenal
DESCRIPTION:
URL:https://earlybirdsport.com/event/aston-villa-vs-arsenal/
LOCATION:Joxer Daly’s\, 11168 Washington Blvd\, Culver City\, 90232\, United States
CATEGORIES:Premier League
ATTACH;FMTTYPE=image/png:https://earlybirdsport.com/wp-content/uploads/2024/08/Aston-Villa-vs-Arsenal.png
ORGANIZER;CN="Early Bird Sport":MAILTO:info@earlybirdsport.com
END:VEVENT
BEGIN:VEVENT
DTSTART;TZID=UTC:20240824T070000
DTEND;TZID=UTC:20240824T090000
DTSTAMP:20260421T021748
CREATED:20240801T150330Z
LAST-MODIFIED:20240820T190621Z
UID:10000020-1724482800-1724490000@earlybirdsport.com
SUMMARY:Fulham vs Leicester City
DESCRIPTION:
URL:https://earlybirdsport.com/event/fulham-vs-leicester-city/
LOCATION:Joxer Daly’s\, 11168 Washington Blvd\, Culver City\, 90232\, United States
CATEGORIES:Premier League
ATTACH;FMTTYPE=image/png:https://earlybirdsport.com/wp-content/uploads/2024/08/Fulham-vs-Leicester-City.png
ORGANIZER;CN="Early Bird Sport":MAILTO:info@earlybirdsport.com
END:VEVENT
BEGIN:VEVENT
DTSTART;TZID=UTC:20240824T070000
DTEND;TZID=UTC:20240824T090000
DTSTAMP:20260421T021748
CREATED:20240801T150330Z
LAST-MODIFIED:20240819T200252Z
UID:10000019-1724482800-1724490000@earlybirdsport.com
SUMMARY:Manchester City vs Ipswich Town
DESCRIPTION:
URL:https://earlybirdsport.com/event/manchester-city-vs-ipswich-town/
LOCATION:Irish Times\, 3267 Motor Ave\, Los Angeles\, CA\, 90034\, United States
CATEGORIES:Premier League
ATTACH;FMTTYPE=image/png:https://earlybirdsport.com/wp-content/uploads/2024/08/Manchester-City-vs-Ipswich-Town.png
ORGANIZER;CN="Early Bird Sport":MAILTO:info@earlybirdsport.com
END:VEVENT
BEGIN:VEVENT
DTSTART;TZID=UTC:20240824T070000
DTEND;TZID=UTC:20240824T090000
DTSTAMP:20260421T021748
CREATED:20240801T150330Z
LAST-MODIFIED:20240820T190219Z
UID:10000021-1724482800-1724490000@earlybirdsport.com
SUMMARY:Southampton vs Nottingham Forest
DESCRIPTION:
URL:https://earlybirdsport.com/event/southampton-vs-nottingham-forest/
LOCATION:Irish Times\, 3267 Motor Ave\, Los Angeles\, CA\, 90034\, United States
CATEGORIES:Premier League
ATTACH;FMTTYPE=image/png:https://earlybirdsport.com/wp-content/uploads/2024/08/South-Hampton-vs-Nottingham-Forest.png
ORGANIZER;CN="Early Bird Sport":MAILTO:info@earlybirdsport.com
END:VEVENT
END:VCALENDAR